BEGIN:VCALENDAR
VERSION:2.0
PRODID:-//wp-events-plugin.com//6.6.4.4//EN
TZID:Europe/Berlin
X-WR-TIMEZONE:Europe/Berlin
BEGIN:VEVENT
UID:11@ditec-dus.de
DTSTART;TZID=Europe/Berlin:20230209T100000
DTEND;TZID=Europe/Berlin:20230209T113000
DTSTAMP:20230120T084638Z
URL:https://ditec-dus.de/events/gemeinsam-auf-mission-eu-foerderung-fuer-k
 reativitaet-und-wissenschaft/
SUMMARY:Gemeinsam auf Mission: EU-Förderung für Kreativität und Wissensc
 haft
DESCRIPTION:Die Kunst spielt in den Forschungsmissionen der EU eine wirkung
 svolle Rolle. Daher fördert die EU-Kommission in Horizont Europa Projekte
  für Kunstschaffende\, die auf Themen rund um bedrohte Böden und Gewäss
 er aufmerksam machen möchten. Die Nationale Kontaktstelle Bioökonomie un
 d Umwelt stellt in einer Online Veranstaltung am 9. Februar 2023 zwischen 
 10:00 und 11:30 Uhr diese Fördermöglichkeiten speziell für Kunstschaffe
 nde vor.\n\nDie Missionen im EU-Rahmenprogramm Horizont Europa sind ein ne
 uer Ansatz der EU-Kommission\, bis 2030 Lösungen für die großen globale
 n Herausforderungen zu finden und umzusetzen. Aktive aus der Wissenschaft\
 , Wirtschaft\, Politik und der Zivilgesellschaft sind aufgefordert sich zu
  beteiligen. Im neuen Arbeitsprogramm 2023 ist jeweils ein Topic in der Ge
 wässer- und der Bodenmission zu finden\, das sich speziell an Kunstschaff
 ende richtet. Hier werden Kunstprojekte gefördert\, die das Interesse der
  Bevölkerung an Gewässern und Böden wecken sollen. Dies soll unter Einb
 ezug der Wissenschaft und Forschung geschehen.\n\nWeitere Informationen
ATTACH;FMTTYPE=image/jpeg:https://ditec-dus.de/wp-content/uploads/2023/01/
 240102023_nks.jpg
LOCATION:https://bio.nrw.de/events/gemeinsam-auf-mission-eu-foerderung-fuer
 -kreativitaet-und-wissenschaft/
END:VEVENT
BEGIN:VTIMEZONE
TZID:Europe/Berlin
X-LIC-LOCATION:Europe/Berlin
BEGIN:STANDARD
DTSTART:20221030T020000
TZOFFSETFROM:+0200
TZOFFSETTO:+0100
TZNAME:CET
END:STANDARD
END:VTIMEZONE
END:VCALENDAR