BEGIN:VCALENDAR
VERSION:2.0
PRODID:-//wp-events-plugin.com//6.6.4.4//EN
TZID:Europe/Berlin
X-WR-TIMEZONE:Europe/Berlin
BEGIN:VEVENT
UID:34@ditec-dus.de
DTSTART;TZID=Europe/Berlin:20231128T160000
DTEND;TZID=Europe/Berlin:20231128T180000
DTSTAMP:20231030T170920Z
URL:https://ditec-dus.de/events/life-science-meets-biocologne/
SUMMARY:LifeScienceNet Düsseldorf meets BioCologne
DESCRIPTION:Neueste Innovationsansätze in der Bekämpfung von Diabetes und
  Begleiterkrankungen\nMetabolismusforschung • Organoidmodelle • Wirkst
 offentwicklung\nGeehrte Leserinnen und Leser\, seien Sie dabei\, wenn das 
 LifeScienceNet und BioCologne erneut Experten zusammenbringt um Einblicke 
 aus Forschung und Wirtschaft zu gewähren.\n\nChronische Stoffwechselerkra
 nkungen wie Diabetes und Fettleber nehmen in den nächsten Jahren weltweit
  deutlich zu. Innovative Targets und Wirkstoffe\, humane Organoidmodelle u
 nd eine zielgerichtete Analytik ermöglichen eine schnellere Entwicklung h
 ochwirksamer und dringend notwendiger Medikamente.\n\nBiotech Firmen präs
 entieren und diskutieren zusammen mit der Grundlagenforschung die Anwendun
 g dieser Techniken bei ihren aktuellen Projekten live vor Ort im Life Scie
 nce Center Düsseldorf.\n\nIm Anschluss an die Vorträge bieten wir wieder
  Gelegenheit zum Netzwerken\, um wertvolle Kooperationen zu knüpfen.\n\nP
 rogramm:\n\n 	Gutes Fett\, schlechtes Fett: Komplexe Lipide in der Entsteh
 ung von Typ 2 Diabetes\, Dr. Bengt Belgardt. Stellvertretender Direktor\, 
 Institut für Vaskular- und Inselzellbiologie\, Deutsches Diabetes-Zentrum
  (DDZ)\, Düsseldorf\n 	Bioanalytische Dos &amp\; Don'ts in der Wirkstoffe
 ntwicklung\, Dr. Tobias Klaassen\, CEO\, A&amp\;M Labor für Analytik und 
 Metabolismusforschung Service GmbH\, Bergheim\n 	Chemogenomisches Screenin
 g in 3D humanen ex vivo Modellen ermöglicht die Identifizierung neuer Dru
 g Targets für NASH\, Prof. Dr. Volker Lauschke\, CEO\, HepaPredict AB\, S
 tockholm (Vortrag in englischer Sprache)\n 	Innovative Wirkstoffe für die
  Therapie der Leberfibrose\, Prof. Dr. Juergen Eckel\, CEO\, CureDiab Meta
 bolic Research GmbH\, Düsseldorf\n\n&nbsp\;\n\nVeranstalter und Ort des E
 vents:\nLifeScienceNet Düsseldorf und BioCologne\nc/o Life Science Center
  Düsseldorf\nMerowingerplatz 1\, 40225 Düsseldorf\n\nDie Veranstaltung f
 indet vor Ort statt.
ATTACH;FMTTYPE=image/jpeg:https://ditec-dus.de/wp-content/uploads/2023/10/
 iStock-1053427712_RGB_kl-scaled.jpg
CATEGORIES:LifeScience-Veranstaltung
LOCATION:Life Science Center Düsseldorf\, Merowingerplatz 1\, Düsseldorf\
 , 40225\, Deutschland
X-APPLE-STRUCTURED-LOCATION;VALUE=URI;X-ADDRESS=Merowingerplatz 1\, Düssel
 dorf\, 40225\, Deutschland;X-APPLE-RADIUS=100;X-TITLE=Life Science Center 
 Düsseldorf:geo:0,0
END:VEVENT
BEGIN:VTIMEZONE
TZID:Europe/Berlin
X-LIC-LOCATION:Europe/Berlin
BEGIN:STANDARD
DTSTART:20231029T020000
TZOFFSETFROM:+0200
TZOFFSETTO:+0100
TZNAME:CET
END:STANDARD
END:VTIMEZONE
END:VCALENDAR