BEGIN:VCALENDAR
VERSION:2.0
PRODID:-//wp-events-plugin.com//6.6.4.4//EN
TZID:Europe/Berlin
X-WR-TIMEZONE:Europe/Berlin
BEGIN:VEVENT
UID:37@ditec-dus.de
DTSTART;TZID=Europe/Berlin:20240424T160000
DTEND;TZID=Europe/Berlin:20240424T180000
DTSTAMP:20240416T080129Z
URL:https://ditec-dus.de/events/lifesciencenet-duesseldorf-meets-biocologn
 e/
SUMMARY:LifeScienceNet Düsseldorf meets BioCologne
DESCRIPTION:Innovative Foschungsansätze in der Onkologie und Zell-/Genther
 apie\nLiebe Community\,\n\nseien Sie dabei wenn das LifeScienceNet und Bio
 Cologne erneut Experten zusammenbringen um Einblicke aus Forschung und Wir
 tschaft zu gewähren.\n\nDie Zahl der Krebserkrankungen weltweit bis 2040 
 rasant ansteigen – laut WHO (IARC) im Vergleich zu 2020 um bis zu 50 Pro
 zent. Etwa jeder fünfte Mensch erkrankt im Leben an Krebs.\n\nUm diesem T
 rend entgegenzutreten\, ist die Entwicklung von hochwirksamen Medikamenten
  und der Einsatz von innovativen Therapien zur Bekämpfung von Tumoren ess
 entiell. Insbesondere stellen Immunonkologika und Zell-/Gentherapien erfol
 gsversprechende Ansätze zur Behandlung von Krebs dar. Biotech-Firmen prä
 sentieren und diskutieren zusammen mit der Grundlagenforschung ihre aktuel
 len Projekte.\n\nBiotech Firmen präsentieren und diskutieren zusammen mit
  der Grundlagenforschung ihr aktuellen Projekte live vor Ort im Life Scien
 ce Center Düsseldorf.\n\nIm Anschluss an die Vorträge bieten wir wieder 
 Gelegenheit zum Netzwerken\, um wertvolle Kooperationen zu knüpfen.\n\nPr
 ogramm:\n\n 	Current state of novel viral platforms in oncology and Abalos
  therapeutics’ viro-immunotherapy to fight cancer\, Dr. Jörg Vollmer\, 
 Abalos Therapeutics GmbH\, Düsseldorf\n 	Immune activation during infecti
 on\, Prof. Dr. Philipp Lang\, Institutsdirektor\, Institut für Molekulare
  Medizin II des Universitätsklinikums Düsseldorf\, Co-Founder Abalos The
 rapeutics GmbH\, Düsseldorf\n 	Next generation CAR-T-Zelltherapien\, Dr. 
 Michael Apel\, Scientific Director\, Miltenyi Biotec B.V. &amp\; Co. KG\, 
 Bergisch Gladbach\n\n&nbsp\;\n\nVeranstalter und Ort des Events:\nLifeScie
 nceNet Düsseldorf und BioCologne\nc/o Life Science Center Düsseldorf\nMe
 rowingerplatz 1\, 40225 Düsseldorf\n\nDie Veranstaltung findet vor Ort st
 att.
ATTACH;FMTTYPE=image/jpeg:https://ditec-dus.de/wp-content/uploads/2024/04/
 RZ-Header_1100x900px_BioCologne_Rheinland_1-2024.jpg
LOCATION:Life Science Center Düsseldorf\, Merowingerplatz 1\, Düsseldorf\
 , 40225\, Deutschland
X-APPLE-STRUCTURED-LOCATION;VALUE=URI;X-ADDRESS=Merowingerplatz 1\, Düssel
 dorf\, 40225\, Deutschland;X-APPLE-RADIUS=100;X-TITLE=Life Science Center 
 Düsseldorf:geo:0,0
END:VEVENT
BEGIN:VTIMEZONE
TZID:Europe/Berlin
X-LIC-LOCATION:Europe/Berlin
BEGIN:DAYLIGHT
DTSTART:20240331T030000
TZOFFSETFROM:+0100
TZOFFSETTO:+0200
TZNAME:CEST
END:DAYLIGHT
END:VTIMEZONE
END:VCALENDAR