BEGIN:VCALENDAR
VERSION:2.0
PRODID:-//wp-events-plugin.com//6.6.4.4//EN
TZID:Europe/Berlin
X-WR-TIMEZONE:Europe/Berlin
BEGIN:VEVENT
UID:8@ditec-dus.de
DTSTART;TZID=Europe/Berlin:20230126T090000
DTEND;TZID=Europe/Berlin:20230126T170000
DTSTAMP:20230120T083910Z
URL:https://ditec-dus.de/events/nanoport-online-workshop/
SUMMARY:NanoPorT Online-Workshop
DESCRIPTION:Einladung zum 1. SYNGOPRO Workshop über Nanopartikel und Proto
 nentherapie zur Krebsbehandlung (NanoPorT).\n\nSYNGOPRO – Synergistische
  Effekte von Gold-Nanopartikeln und Protonenbestrahlung bei der Behandlung
  von Hirntumoren im Kindesalter – ist ein erfolgreiches Konsortium aus d
 er 1. Einreichungsrunde des Leitmarktwettbewerbs LifeSciences.NRW.\nZiel d
 es Konsortium ist die erfolgreiche Etablierung eines kombinatorischen Ther
 apieansatzes aus modernster Protonentherapie und Gold-Nanopartikeln bei de
 r Behandlung von Hirntumoren bei Kindern\, die zu einer relevanten Steiger
 ung der Sensitivität und der Effektivität der Protonentherapie beitragen
  soll.\n\nInfolgedessen werden sich die Bestrahlungszeiten verkürzen\, so
  dass eine größere Anzahl krebskranker Kinder Zugang zu dieser lebensret
 tenden Therapie erhalten kann.\n\nWeitere Informationen
ATTACH;FMTTYPE=image/jpeg:https://ditec-dus.de/wp-content/uploads/2023/01/
 26012023_logo_ume.jpg
LOCATION:https://bio.nrw.de/events/nanoport-online-workshop/
END:VEVENT
BEGIN:VTIMEZONE
TZID:Europe/Berlin
X-LIC-LOCATION:Europe/Berlin
BEGIN:STANDARD
DTSTART:20221030T020000
TZOFFSETFROM:+0200
TZOFFSETTO:+0100
TZNAME:CET
END:STANDARD
END:VTIMEZONE
END:VCALENDAR